BEGIN:VCALENDAR
VERSION:2.0
PRODID:-//ICNA Florida - ECPv6.15.10//NONSGML v1.0//EN
CALSCALE:GREGORIAN
METHOD:PUBLISH
X-ORIGINAL-URL:https://www.icnafl.org
X-WR-CALDESC:Events for ICNA Florida
REFRESH-INTERVAL;VALUE=DURATION:PT1H
X-Robots-Tag:noindex
X-PUBLISHED-TTL:PT1H
BEGIN:VTIMEZONE
TZID:America/New_York
BEGIN:DAYLIGHT
TZOFFSETFROM:-0500
TZOFFSETTO:-0400
TZNAME:EDT
DTSTART:20230312T070000
END:DAYLIGHT
BEGIN:STANDARD
TZOFFSETFROM:-0400
TZOFFSETTO:-0500
TZNAME:EST
DTSTART:20231105T060000
END:STANDARD
BEGIN:DAYLIGHT
TZOFFSETFROM:-0500
TZOFFSETTO:-0400
TZNAME:EDT
DTSTART:20240310T070000
END:DAYLIGHT
BEGIN:STANDARD
TZOFFSETFROM:-0400
TZOFFSETTO:-0500
TZNAME:EST
DTSTART:20241103T060000
END:STANDARD
BEGIN:DAYLIGHT
TZOFFSETFROM:-0500
TZOFFSETTO:-0400
TZNAME:EDT
DTSTART:20250309T070000
END:DAYLIGHT
BEGIN:STANDARD
TZOFFSETFROM:-0400
TZOFFSETTO:-0500
TZNAME:EST
DTSTART:20251102T060000
END:STANDARD
END:VTIMEZONE
BEGIN:VTIMEZONE
TZID:America/Halifax
BEGIN:DAYLIGHT
TZOFFSETFROM:-0400
TZOFFSETTO:-0300
TZNAME:ADT
DTSTART:20230312T060000
END:DAYLIGHT
BEGIN:STANDARD
TZOFFSETFROM:-0300
TZOFFSETTO:-0400
TZNAME:AST
DTSTART:20231105T050000
END:STANDARD
BEGIN:DAYLIGHT
TZOFFSETFROM:-0400
TZOFFSETTO:-0300
TZNAME:ADT
DTSTART:20240310T060000
END:DAYLIGHT
BEGIN:STANDARD
TZOFFSETFROM:-0300
TZOFFSETTO:-0400
TZNAME:AST
DTSTART:20241103T050000
END:STANDARD
BEGIN:DAYLIGHT
TZOFFSETFROM:-0400
TZOFFSETTO:-0300
TZNAME:ADT
DTSTART:20250309T060000
END:DAYLIGHT
BEGIN:STANDARD
TZOFFSETFROM:-0300
TZOFFSETTO:-0400
TZNAME:AST
DTSTART:20251102T050000
END:STANDARD
END:VTIMEZONE
BEGIN:VEVENT
DTSTART;TZID=America/New_York:20240622T180000
DTEND;TZID=America/New_York:20240622T180000
DTSTAMP:20260423T123003
CREATED:20240520T211259Z
LAST-MODIFIED:20240607T155528Z
UID:1233-1719079200-1719079200@www.icnafl.org
SUMMARY:Understanding the Holy Land: A Journey Through Time
DESCRIPTION:Jerusalem carries a special status among Islam\, Christianity\, and Judaism. These three religions have strong historical ties to this land and consider it holy. Our open house will discuss the historical perspective of this land and how these three religions are associated with it. \nWe will also address the Zionist claim that this land is a promised land for Jews. Do the Zionists have the right to expel its inhabitants based on this claim? Our open house will explore this crucial topic in a congenial environment\, supported by historical facts. Please join us!
URL:https://www.icnafl.org/event/understanding-the-holy-land-a-journey-through-time/
LOCATION:Baymedow Islamic Center\, 8225 Dix Ellis Trail\, Jacksonville\, FL\, 32256\, United States
ATTACH;FMTTYPE=image/jpeg:https://www.icnafl.org/wp-content/uploads/2024/06/june-event-3.jpg
ORGANIZER;CN="ICNA Jacksonville":MAILTO:icnafl@gmail.com
END:VEVENT
BEGIN:VEVENT
DTSTART;TZID=America/Halifax:20240511T180000
DTEND;TZID=America/Halifax:20240511T180000
DTSTAMP:20260423T123003
CREATED:20240429T230018Z
LAST-MODIFIED:20240502T173347Z
UID:944-1715450400-1715450400@www.icnafl.org
SUMMARY:Second Coming of Jesus - Myth or Reality
DESCRIPTION:Explore the revered status of Jesus in Islam and Christianity at our open house discussion. Both faiths regard Jesus as central\, anticipating his Second Coming. While sharing commonalities\, differences exist in their perspectives. Join us to delve into the Islamic view of Jesus’s return\, understanding shared beliefs and nuances. Enjoy dinner and receive a complimentary copy of the Quran. Engage in enlightening conversation\, bridging religious understanding. Your presence is valued for an evening of fellowship and learning. Don’t miss this opportunity to enrich your knowledge and engage in meaningful dialogue. See you there! \n  \n 
URL:https://www.icnafl.org/event/second-coming-of-jesus-myth-or-reality/
LOCATION:Baymedow Islamic Center\, 8225 Dix Ellis Trail\, Jacksonville\, FL\, 32256\, United States
ATTACH;FMTTYPE=image/jpeg:https://www.icnafl.org/wp-content/uploads/2024/04/Untitled-6.jpg
ORGANIZER;CN="ICNA Jacksonville":MAILTO:icnafl@gmail.com
END:VEVENT
END:VCALENDAR